BEGIN:VCALENDAR
VERSION:2.0
PRODID:-//Schedule II CrossFit - ECPv5.1.1//NONSGML v1.0//EN
CALSCALE:GREGORIAN
METHOD:PUBLISH
X-WR-CALNAME:Schedule II CrossFit
X-ORIGINAL-URL:http://www.schedule2crossfit.com
X-WR-CALDESC:Events for Schedule II CrossFit
BEGIN:VTIMEZONE
TZID:America/New_York
BEGIN:DAYLIGHT
TZOFFSETFROM:-0500
TZOFFSETTO:-0400
TZNAME:EDT
DTSTART:20170312T070000
END:DAYLIGHT
BEGIN:STANDARD
TZOFFSETFROM:-0400
TZOFFSETTO:-0500
TZNAME:EST
DTSTART:20171105T060000
END:STANDARD
END:VTIMEZONE
BEGIN:VEVENT
DTSTART;TZID=America/New_York:20170512T190000
DTEND;TZID=America/New_York:20170513T190000
DTSTAMP:20260424T113314
CREATED:20170221T193413Z
LAST-MODIFIED:20170406T163322Z
UID:764-1494615600-1494702000@www.schedule2crossfit.com
SUMMARY:24 Hour Wod-A-Thon
DESCRIPTION:Portion of all proceeds go to the Prader Willis Foundation!! \nThis is a 24-hour CrossFit-style endurance event. We will be completing one workout every hour on the hour for a total of 24 consecutive hours. \nThere will be 3 levels of glory; Heavy\, Challenge\, or Light. \n•Heavy: 24 consecutive hours. You are an ultimate bad ass.\n•Challenge: 12 consecutive hours. You will come Saturday morning for the 7AM start time and stay until the finish.\n•Light: 6 consecutive hours. You will come for the 1PM start time and stay until the finish. \nSome workouts will be team or partner style and we will be relying on fresh meat to join us in the morning and early afternoon. \nCrossFit experience is REQUIRED. You are under no obligation to RX every movement\, but you need to know the fundamentals of each movement. There will be scaling options provided for more complex movements/weight and you will not be penalized for scaling a workout. If our coaches need to take time out of the hour to teach you how to perform a movement\, that is time taken away from rest time. This event is not to learn\, it is to endure. \n**If you plan on participating in this event and you DO NOT have CrossFit experience\, please contact Schedule II CrossFit to enroll in the March or April Fundamentals Class (On-Ramp). \nPlease join our Facebook event page for ongoing details. \n
URL:http://www.schedule2crossfit.com/event/24-hour-wod-a-thon/
LOCATION:Schedule II CrossFit\, 201 West High Street\, East Hampton\, 06424\, United States
CATEGORIES:Events
ATTACH;FMTTYPE=image/jpeg:http://www.schedule2crossfit.com/wp-content/uploads/2017/02/wodathon.jpg
ORGANIZER;CN="Aaron%20Grover":MAILTO:grover.aaron.j@gmail.com
END:VEVENT
END:VCALENDAR