BEGIN:VCALENDAR
VERSION:2.0
PRODID:-//Schedule II CrossFit - ECPv5.1.1//NONSGML v1.0//EN
CALSCALE:GREGORIAN
METHOD:PUBLISH
X-WR-CALNAME:Schedule II CrossFit
X-ORIGINAL-URL:http://www.schedule2crossfit.com
X-WR-CALDESC:Events for Schedule II CrossFit
BEGIN:VTIMEZONE
TZID:America/New_York
BEGIN:DAYLIGHT
TZOFFSETFROM:-0500
TZOFFSETTO:-0400
TZNAME:EDT
DTSTART:20170312T070000
END:DAYLIGHT
BEGIN:STANDARD
TZOFFSETFROM:-0400
TZOFFSETTO:-0500
TZNAME:EST
DTSTART:20171105T060000
END:STANDARD
END:VTIMEZONE
BEGIN:VEVENT
DTSTART;TZID=America/New_York:20171028T090000
DTEND;TZID=America/New_York:20171028T150000
DTSTAMP:20260424T113453
CREATED:20170913T000835Z
LAST-MODIFIED:20170913T000835Z
UID:2848-1509181200-1509202800@www.schedule2crossfit.com
SUMMARY:4th Annual Sunshine Kids "Spooktacular" Fundraiser
DESCRIPTION:4th annual CrossFit/Rise & Grind 3-person team style fundraiser to benefit the Sunshine Kids Organization! Don’t have a team\, don’t worry…we’ll help you make one on site!\nThe event is suitable for all fitness levels. We kindly ask for a $20 donation per person payable at the door. Raffles\, costume contest\, feats of strength competitions and more!!! Please come on out for this worthy cause! \n9am – CrossFit/Rise & Grind \n10am – CrossFit/Rise & Grind \n11am – CrossFit/Rise & Grind \n12pm – CrossFit/Rise & Grind \n
URL:http://www.schedule2crossfit.com/event/4th-annual-sunshine-kids-spooktacular-fundraiser/
LOCATION:Schedule II CrossFit\, 201 West High Street\, East Hampton\, 06424\, United States
CATEGORIES:Events
ATTACH;FMTTYPE=image/jpeg:http://www.schedule2crossfit.com/wp-content/uploads/2017/09/sunshine-e1505261241282.jpg
ORGANIZER;CN="Aletheia%20Stratos":MAILTO:aletheia.stratos@gmail.com
END:VEVENT
END:VCALENDAR