BEGIN:VCALENDAR
VERSION:2.0
PRODID:-//Schedule II CrossFit - ECPv5.1.1//NONSGML v1.0//EN
CALSCALE:GREGORIAN
METHOD:PUBLISH
X-WR-CALNAME:Schedule II CrossFit
X-ORIGINAL-URL:http://www.schedule2crossfit.com
X-WR-CALDESC:Events for Schedule II CrossFit
BEGIN:VTIMEZONE
TZID:America/New_York
BEGIN:DAYLIGHT
TZOFFSETFROM:-0500
TZOFFSETTO:-0400
TZNAME:EDT
DTSTART:20170312T070000
END:DAYLIGHT
BEGIN:STANDARD
TZOFFSETFROM:-0400
TZOFFSETTO:-0500
TZNAME:EST
DTSTART:20171105T060000
END:STANDARD
END:VTIMEZONE
BEGIN:VEVENT
DTSTART;VALUE=DATE:20170725
DTEND;VALUE=DATE:20170811
DTSTAMP:20260424T113322
CREATED:20170601T191608Z
LAST-MODIFIED:20170711T161033Z
UID:2737-1500940800-1502409599@www.schedule2crossfit.com
SUMMARY:July New Member On-Ramp / Foundations Program
DESCRIPTION:First 3 classes FREE! Time to make a fitness resolution that you will stick to!! Come join us for our new member on-ramp/foundations program and learn why the best fitness program around is right here in East Hampton! \nOur 8-class on-ramp program is designed to get new members up to speed with foundational movements. Let our highly educated and well-trained staff of professionals guide you through safe and efficient movement that will change your life (for real!). This program starts 7/25 and runs until 8/10. \nClass meets Tuesdays and Thursdays from 6:30-7:30pm and Sundays from 9-10am. Can’t make those times\, we can be flexible. \nContact us today or register online! \n
URL:http://www.schedule2crossfit.com/event/july-new-member-on-ramp-foundations-program/
LOCATION:Schedule II CrossFit\, 201 West High Street\, East Hampton\, 06424\, United States
CATEGORIES:Events
ATTACH;FMTTYPE=image/jpeg:http://www.schedule2crossfit.com/wp-content/uploads/2017/03/DSC_6003-1.jpg
ORGANIZER;CN="Schedule%20II%20CrossFit":MAILTO:info@schedule2crossfit.com
END:VEVENT
END:VCALENDAR