BEGIN:VCALENDAR
VERSION:2.0
PRODID:-//Schedule II CrossFit - ECPv5.1.1//NONSGML v1.0//EN
CALSCALE:GREGORIAN
METHOD:PUBLISH
X-WR-CALNAME:Schedule II CrossFit
X-ORIGINAL-URL:http://www.schedule2crossfit.com
X-WR-CALDESC:Events for Schedule II CrossFit
BEGIN:VTIMEZONE
TZID:UTC
BEGIN:STANDARD
TZOFFSETFROM:+0000
TZOFFSETTO:+0000
TZNAME:UTC
DTSTART:20170101T000000
END:STANDARD
END:VTIMEZONE
BEGIN:VEVENT
DTSTART;VALUE=DATE:20170131
DTEND;VALUE=DATE:20170222
DTSTAMP:20260424T101325
CREATED:20160714T145424Z
LAST-MODIFIED:20170319T212907Z
UID:212-1485820800-1487721599@www.schedule2crossfit.com
SUMMARY:New member on-ramp/foundations class!
DESCRIPTION:First 3 classes FREE! It’s 2017\, time to make a fitness resolution that you will stick to!! Come join us for our new member on-ramp/foundations program and learn why the best fitness program around is right here in East Hampton! \nOur 8-class on-ramp program is designed to get new members up to speed with foundational movements. Let our highly educated and well-trained staff of professionals guide you through safe and efficient movement that will change your life (for real!). This program starts 1/31 and runs until 2/16 \nClass meets Tuesdays and Thursdays from 6:30-7:30pm and Sundays from 9-10am. Can’t make those times\, we can be flexible. \nContact us today for registration! \n
URL:http://www.schedule2crossfit.com/event/new-member-on-rampfoundations-class/
CATEGORIES:Events
ATTACH;FMTTYPE=image/jpeg:http://www.schedule2crossfit.com/wp-content/uploads/2016/07/onramp_pic1-e1487705001181.jpg
END:VEVENT
END:VCALENDAR