BEGIN:VCALENDAR
VERSION:2.0
PRODID:-//Schedule II CrossFit - ECPv5.1.1//NONSGML v1.0//EN
CALSCALE:GREGORIAN
METHOD:PUBLISH
X-WR-CALNAME:Schedule II CrossFit
X-ORIGINAL-URL:http://www.schedule2crossfit.com
X-WR-CALDESC:Events for Schedule II CrossFit
BEGIN:VTIMEZONE
TZID:UTC
BEGIN:STANDARD
TZOFFSETFROM:+0000
TZOFFSETTO:+0000
TZNAME:UTC
DTSTART:20160101T000000
END:STANDARD
END:VTIMEZONE
BEGIN:VEVENT
DTSTART;VALUE=DATE:20161105
DTEND;VALUE=DATE:20161106
DTSTAMP:20260424T113447
CREATED:20160714T144832Z
LAST-MODIFIED:20170221T200603Z
UID:210-1478304000-1478390399@www.schedule2crossfit.com
SUMMARY:Officer Hardie Burgin Fundraiser
DESCRIPTION:On Sunday\, September 4\, 2016\, while assisting an EverSource utility crew during emergency repair\, Officer Hardie Burgin was struck by a passing car. The resulting injuries nearly took Officer Burgin’s life and will sideline him for the good part of a year. He has a long road ahead of physical therapy to repair two broken shoulders\, back\, and leg injury. His wife and their three young children are thankful it wasn’t worse. Although he has insurance\, surely there will be high co-pays\, a large deductible\, and significant lost wages during his disability and rehab. It’s our understanding that his wife has been forced to also take a leave from work to manage Hardie’s rehabilitation and their children. \nOn Noverber 5th\, Schedule II CrossFit\, assisted by CT Zumba\, will be hosting fundraiser workouts for Officer Burgin starting at 8am. Workouts are designed for all skill levels and we encourage EVERYONE in town\, new or experienced\, to participate. There will be Yoga\, CrossFit and Zumba workouts that day\, plus additional fundraising opportunities. We ask for a $20 donation that will allow access to all classes offered that day. Come for one class or stay for multiple!! The schedule will be: \n8:00 am Yoga \n9:00 am CrossFit \n10:00 am CrossFit \n11:00 am Zumba \n12:00 pm CrossFit \n  \n
URL:http://www.schedule2crossfit.com/event/officer-hardie-burgin-fundraiser/
CATEGORIES:Events
ATTACH;FMTTYPE=image/jpeg:http://www.schedule2crossfit.com/wp-content/uploads/2016/07/HardieBurginFundraiser-e1487704072554.jpg
END:VEVENT
END:VCALENDAR