BEGIN:VCALENDAR
VERSION:2.0
PRODID:-//Schedule II CrossFit - ECPv5.1.1//NONSGML v1.0//EN
CALSCALE:GREGORIAN
METHOD:PUBLISH
X-WR-CALNAME:Schedule II CrossFit
X-ORIGINAL-URL:http://www.schedule2crossfit.com
X-WR-CALDESC:Events for Schedule II CrossFit
BEGIN:VTIMEZONE
TZID:America/New_York
BEGIN:DAYLIGHT
TZOFFSETFROM:-0500
TZOFFSETTO:-0400
TZNAME:EDT
DTSTART:20170312T070000
END:DAYLIGHT
BEGIN:STANDARD
TZOFFSETFROM:-0400
TZOFFSETTO:-0500
TZNAME:EST
DTSTART:20171105T060000
END:STANDARD
END:VTIMEZONE
BEGIN:VEVENT
DTSTART;TZID=America/New_York:20170423T090000
DTEND;TZID=America/New_York:20170423T090000
DTSTAMP:20260424T100649
CREATED:20170221T202416Z
LAST-MODIFIED:20170319T212747Z
UID:772-1492938000-1492938000@www.schedule2crossfit.com
SUMMARY:RPM jump rope workshop
DESCRIPTION:Schedule II Crossfit will be hosting a jump rope workshop lead by RPM Jump Rope.\nThis workshop is designed for all skill levels and is open to everyone. To register\, please contact Schedule II CrossFit. (Schedule II members please sign up at the box)\nDetails from RPM:\n“The RPM Jump Rope Experience is lead by our multiple time National and World champions who are true subject matter experts in the sport of jump rope. They have been competing and coaching their entire lives\, and are effectively able to break down technique and explain the nuances and details of what it takes to become an efficient jumper. Due to its prominence in CrossFit\, our 2-hour workshop is designed to walk your athletes through all aspects of the Double Under\, from basic to advanced levels. We also have designated time for learning Triple Unders and some basic and intermediate level freestyle skills that we believe are an integral part in becoming familiar with the fundamentals of jump rope. Of course\, we’ll finish the entire experience with a little Double Dutch fun for everyone and a trick demo from our pros!”\n
URL:http://www.schedule2crossfit.com/event/rpm-jump-rope-workshop/
LOCATION:Schedule II CrossFit\, 201 West High Street\, East Hampton\, 06424\, United States
CATEGORIES:Events
ATTACH;FMTTYPE=image/jpeg:http://www.schedule2crossfit.com/wp-content/uploads/2017/02/jumprope.jpg
ORGANIZER;CN="Schedule%20II%20CrossFit":MAILTO:info@schedule2crossfit.com
END:VEVENT
END:VCALENDAR