BEGIN:VCALENDAR
VERSION:2.0
PRODID:-//Schedule II CrossFit - ECPv5.1.1//NONSGML v1.0//EN
CALSCALE:GREGORIAN
METHOD:PUBLISH
X-WR-CALNAME:Schedule II CrossFit
X-ORIGINAL-URL:http://www.schedule2crossfit.com
X-WR-CALDESC:Events for Schedule II CrossFit
BEGIN:VTIMEZONE
TZID:America/New_York
BEGIN:DAYLIGHT
TZOFFSETFROM:-0500
TZOFFSETTO:-0400
TZNAME:EDT
DTSTART:20170312T070000
END:DAYLIGHT
BEGIN:STANDARD
TZOFFSETFROM:-0400
TZOFFSETTO:-0500
TZNAME:EST
DTSTART:20171105T060000
END:STANDARD
END:VTIMEZONE
BEGIN:VEVENT
DTSTART;TZID=America/New_York:20170729T073000
DTEND;TZID=America/New_York:20170729T150000
DTSTAMP:20260424T110835
CREATED:20170426T141607Z
LAST-MODIFIED:20170426T194635Z
UID:2709-1501313400-1501340400@www.schedule2crossfit.com
SUMMARY:Unicorn & Dragon Throwdown
DESCRIPTION:The “Unicorn & Dragon Throwdown” is a 2 person co-ed CrossFit competition held on July 29\, 2017 hosted by Schedule II CrossFit. \nEach team will consist of one dragon (male) and one unicorn (female) competing in one of three divisions; RX\, scaled\, or masters (40+). Each team will complete 3 workouts with prizes given to the top three teams in each division. This competition is designed for the average CrossFitter. Those who sign up before June 22 will receive a “Unicorn & Dragon Throwdown” t-shirt. \nAthlete check-in will be 7:30-8:30am with an athlete briefing at 8:30am. The first heat will begin promptly at 9:00am. The competition will be done and prizes awarded before 3:00pm! \nWODs to be released soon… stay tuned and join our Facebook Event page! \nTickets must be purchased through EventBrite \n
URL:http://www.schedule2crossfit.com/event/unicorn-dragon-throwdown/
LOCATION:Schedule II CrossFit\, 201 West High Street\, East Hampton\, 06424\, United States
ATTACH;FMTTYPE=image/jpeg:http://www.schedule2crossfit.com/wp-content/uploads/2017/04/IMG_6502.jpg
ORGANIZER;CN="Schedule%20II%20CrossFit":MAILTO:info@schedule2crossfit.com
END:VEVENT
END:VCALENDAR